BEGIN:VCALENDAR
VERSION:2.0
PRODID:icalendar-ruby
CALSCALE:GREGORIAN
METHOD:PUBLISH
X-WR-CALNAME:Libre.re Events
X-WR-TIMEZONE:Asia/Baku
BEGIN:VTIMEZONE
TZID:Asia/Baku
BEGIN:STANDARD
DTSTART:20151025T040000
TZOFFSETFROM:+0500
TZOFFSETTO:+0400
TZNAME:+04
END:STANDARD
END:VTIMEZONE
BEGIN:VEVENT
DTSTAMP:20260425T135107Z
UID:114@beta.libre.re
DTSTART;TZID=Asia/Baku:20190730T183015
DESCRIPTION:https://www.beta.libre.re/t/la-bataille-du-libre-projection-deb
 at-la-premiere-a-cambaie/114\n\nLibre.re propose la première projection/d
 ébat  du film La bataille du Libre dans les locaux d’Ékopratik le mard
 i 30 juillet 2019 à 18h30. Prévoir 1 heure 20 de projection\, puis 1 heu
 re de débat. Le local Récup’R est situ&hellip\;
SUMMARY:La bataille du Libre : Projection/Débat (la première) à Cambaie
URL:https://www.beta.libre.re/t/la-bataille-du-libre-projection-debat-la-pr
 emiere-a-cambaie/114
END:VEVENT
BEGIN:VEVENT
DTSTAMP:20260425T135107Z
UID:117@beta.libre.re
DTSTART;TZID=Asia/Baku:20190807T170016
DESCRIPTION:https://www.beta.libre.re/t/internet-ou-la-revolution-du-partag
 e-projection-debat-a-ste-suzanne/117\n\nProjection/débat du film La batai
 lle du Libre à la médiathèque Aimé Cesaire à Ste Suzanne \n:wave: Cha
 ngement : c’est le documentaire Internet et la révolution du partage qu
 i sera projeté. Autrement dit la version courte &hellip\;
SUMMARY:Internet ou la révolution du partage : Projection/Débat à Ste-Su
 zanne
URL:https://www.beta.libre.re/t/internet-ou-la-revolution-du-partage-projec
 tion-debat-a-ste-suzanne/117
END:VEVENT
BEGIN:VEVENT
DTSTAMP:20260425T135107Z
UID:115@beta.libre.re
DTSTART;TZID=Asia/Baku:20190809T183043
DESCRIPTION:https://www.beta.libre.re/t/la-bataille-du-libre-projection-deb
 at-a-st-pierre/115\n\nProjection/débat du film La bataille du libre à Na
 ture&amp\;Péi\, restaurant végétarien à Saint-Pierre\, le vendredi 9 a
 oût 2019 à 18h30. \nPrévoir 1 heure 20 de projection\, puis 1 heure de 
 débat. \nLe lieu est très agréable\, Sté&hellip\;
SUMMARY:La bataille du Libre : Projection/Débat à St Pierre
URL:https://www.beta.libre.re/t/la-bataille-du-libre-projection-debat-a-st-
 pierre/115
ATTENDEE:mailto:michel.robert.fr@free.fr
END:VEVENT
BEGIN:VEVENT
DTSTAMP:20260425T135107Z
UID:163@beta.libre.re
DTSTART;TZID=Asia/Baku:20190831T093047
DTEND;TZID=Asia/Baku:20190831T173047
DESCRIPTION:https://www.beta.libre.re/t/instalali-2019-1-a-cambaie/163\n\nI
 l s’agit d’un événement proposé par l’association Libre.re qui co
 nsiste à aider le grand public à installer des logiciels libres sur leur
  ordinateur. Durant cette journée\, des mini-conférences seront dispens
 ées sur de&hellip\;
SUMMARY:Instalali 2019.1\, à Cambaie
URL:https://www.beta.libre.re/t/instalali-2019-1-a-cambaie/163
ATTENDEE:mailto:p.dijoux579@laposte.net
END:VEVENT
BEGIN:VEVENT
DTSTAMP:20260425T135107Z
UID:217@beta.libre.re
DTSTART;TZID=Asia/Baku:20191004T193056
DESCRIPTION:https://www.beta.libre.re/t/emission-webradio-des-libres-et-vou
 s-en-direct-de-st-joseph/217\n\nBonjour à toutes et tous\, \nVendredi 4 o
 ctobre à 17h30 (19h30 à la Réunion) en direct depuis Saint-Joseph\, nou
 s vous invitons à vous brancher sur la webradio “Des Libres et Vous !
 ” \nAu programme : \n\n\nLes CEMEA Réunion acc&hellip\;
SUMMARY:Emission webradio "Des libres et Vous" en direct de St joseph
URL:https://www.beta.libre.re/t/emission-webradio-des-libres-et-vous-en-dir
 ect-de-st-joseph/217
END:VEVENT
BEGIN:VEVENT
DTSTAMP:20260425T135107Z
UID:222@beta.libre.re
DTSTART;TZID=Asia/Baku:20191116T140046
DTEND;TZID=Asia/Baku:20191116T170046
DESCRIPTION:https://www.beta.libre.re/t/install-party-le-16-novembre-a-camb
 aie-saint-paul/222\n\nBonjour à tous\, \nSuite à une réunion de l’ass
 ociation Ekopratik\, qui gère les Reparali Cafés\, une après-midi d’a
 teliers divers sera organisée le 16 novembre à partir de 14h00. \nIl y a
 ura en particulier une Install Party &hellip\;
SUMMARY:Install Party le 16 novembre à Cambaie (Saint-Paul)
URL:https://www.beta.libre.re/t/install-party-le-16-novembre-a-cambaie-sain
 t-paul/222
END:VEVENT
BEGIN:VEVENT
DTSTAMP:20260425T135107Z
UID:243@beta.libre.re
DTSTART;TZID=Asia/Baku:20191213T170000
DESCRIPTION:https://www.beta.libre.re/t/reunion-monnaie-libre-a-st-joseph/2
 43\n\nBonjour\, \nJe relaie une info de monnaie-libre.fr pour une réunion
  monnaie libre à St Joseph le vendredi 13 à 17h à la Marine Vincendo. \
 nPlus d’infos \nC’est la première ! :smiley: :pray:
SEQUENCE:1
SUMMARY:Réunion monnaie libre à St Joseph
URL:https://www.beta.libre.re/t/reunion-monnaie-libre-a-st-joseph/243
END:VEVENT
BEGIN:VEVENT
DTSTAMP:20260425T135107Z
UID:249@beta.libre.re
DTSTART;TZID=Asia/Baku:20191220T203000
DESCRIPTION:https://www.beta.libre.re/t/20-desanm-fet-la-liberte/249\n\nLa 
 fête réunionnaise de la liberté est une fête qui célèbre la proclama
 tion de l’abolition de l’esclavage par la Deuxième République franç
 aise et plus précisément\, sa proclamation par Sarda Garriga à l’île
  de La Réunion &hellip\;
SEQUENCE:1
SUMMARY:20 désanm\, fèt la liberté
URL:https://www.beta.libre.re/t/20-desanm-fet-la-liberte/249
END:VEVENT
BEGIN:VEVENT
DTSTAMP:20260425T135107Z
UID:257@beta.libre.re
DTSTART;TZID=Asia/Baku:20200111T093000
DTEND;TZID=Asia/Baku:20200111T120000
DESCRIPTION:https://www.beta.libre.re/t/assemblee-generale-11-janvier-2020-
 chez-recupr/257\n\nAssemblée Générale de Libre.re dans les locaux de R
 écup’R. \nViendé nombreux. \nAu menu \n\nbilan financier\nadhésion po
 ur l’année 2020\n\n1€/mois soit 12€/an\n\n\nchoix du compte bancair
 e\n\nLa Poste ?\n\n\n\nOn espère être au minimum &hellip\;
SEQUENCE:1
SUMMARY:Assemblée Générale\, 11 janvier 2020 chez Récup'R
URL:https://www.beta.libre.re/t/assemblee-generale-11-janvier-2020-chez-rec
 upr/257
END:VEVENT
BEGIN:VEVENT
DTSTAMP:20260425T135107Z
UID:284@beta.libre.re
DTSTART;TZID=Asia/Baku:20200128T130000
DESCRIPTION:https://www.beta.libre.re/t/un-geconomicus-a-vincendo/284\n\nBo
 njour tout le monde\, \nUne après-midi de jeu au Ğeconomicus se déroule
 ra à L’Eco ferme de Vincendo ce mardi 28 janvier à partir de 13h. \nC
 ’est Babeth Mangas qui en parle sur Facebook\, elle avait envoyé des me
 ssages par &hellip\;
SEQUENCE:1
SUMMARY:Un Ğeconomicus à Vincendo
URL:https://www.beta.libre.re/t/un-geconomicus-a-vincendo/284
END:VEVENT
BEGIN:VEVENT
DTSTAMP:20260425T135107Z
UID:271@beta.libre.re
DTSTART;TZID=Asia/Baku:20200207T160000
DESCRIPTION:https://www.beta.libre.re/t/rencontre-monnaie-libre-a-la-petite
 -ile/271\n\nBonjour tout le monde. \nUne réunion pour développer la Monn
 aie Libre à La Réunion aura lieu à La Petite-Ile d’ici le vendredi 7 
 février à 16h. \nC’est une occasion pour les membres de ce réseau et 
 ceux qui veulent en fair&hellip\;
SEQUENCE:1
SUMMARY:Rencontre Monnaie Libre à La Petite-Ile
URL:https://www.beta.libre.re/t/rencontre-monnaie-libre-a-la-petite-ile/271
END:VEVENT
BEGIN:VEVENT
DTSTAMP:20260425T135107Z
UID:304@beta.libre.re
DTSTART;TZID=Asia/Baku:20200218T193000
DESCRIPTION:https://www.beta.libre.re/t/4e-rencontre-monnaie-libre-g1-st-an
 dre/304\n\nBonjour à tous\, \nnous organisons un apéro partagé dans l
 ’est\, le 18 février afin de parler de la June (Monnaie Libre G1). \nQu
 ’est ce que la Monnaie Libre? A quoi sert-elle? Comment s’en procurer?
  Que peut-on acheter o&hellip\;
SEQUENCE:1
SUMMARY:4e Rencontre Monnaie Libre G1 St André
URL:https://www.beta.libre.re/t/4e-rencontre-monnaie-libre-g1-st-andre/304
END:VEVENT
BEGIN:VEVENT
DTSTAMP:20260425T135107Z
UID:314@beta.libre.re
DTSTART;TZID=Asia/Baku:20200223T140000
DESCRIPTION:https://www.beta.libre.re/t/5e-rencontre-monnaie-libre-974/314\
 n\nBonjour à tous\, \nnous avons été invités par le QG Zazalé - Gilet
 s Jaunes à faire une intervention sur la Monnaie Libre\, nous vous propos
 ons donc de nous y retrouver le dimanche 23 février à 14h pour tout savo
 ir sur la G1&hellip\;
SEQUENCE:2
SUMMARY:5e Rencontre Monnaie Libre 974
URL:https://www.beta.libre.re/t/5e-rencontre-monnaie-libre-974/314
END:VEVENT
BEGIN:VEVENT
DTSTAMP:20260425T135107Z
UID:334@beta.libre.re
DTSTART;TZID=Asia/Baku:20200305T140000
DTEND;TZID=Asia/Baku:20200305T170000
DESCRIPTION:https://www.beta.libre.re/t/cafe-numerique-1-atelier-cartograph
 ie-openstreetmap/334\n\n4 ateliers numériques ce mois-ci dans les locaux 
 de Récup’R (association Ekopratik) \n \nL’objectif : apprendre à con
 tribuer aux projets Wikipédia et OpenStreetMap\, par l’ajout et la modi
 fication de données\, et en profiter&hellip\;
SEQUENCE:1
SUMMARY:Café numérique #1 : atelier cartographie OpenStreetMap
URL:https://www.beta.libre.re/t/cafe-numerique-1-atelier-cartographie-opens
 treetmap/334
END:VEVENT
BEGIN:VEVENT
DTSTAMP:20260425T135107Z
UID:347@beta.libre.re
DTSTART;TZID=Asia/Baku:20200312T140000
DTEND;TZID=Asia/Baku:20200312T170000
DESCRIPTION:https://www.beta.libre.re/t/cafe-numerique-2-atelier-cartograph
 ie/347\n\nSi vous êtes libres jeudi et pouvez vous rendre sur Saint-Paul\
 , rejoignez moi au local Récup’R\, nous discuterons ensemble de cartogr
 aphie et échangerons sur les (bonnes) pratiques. \nL’idéal serait de v
 enir avec votre ord&hellip\;
SEQUENCE:1
SUMMARY:Café numérique #2 : atelier cartographie
URL:https://www.beta.libre.re/t/cafe-numerique-2-atelier-cartographie/347
ATTENDEE:mailto:zipang@orange.fr
ATTENDEE:mailto:bjavotte@artcode.re
END:VEVENT
BEGIN:VEVENT
DTSTAMP:20260425T135107Z
UID:307@beta.libre.re
DTSTART;TZID=Asia/Baku:20200314T163000
DTEND;TZID=Asia/Baku:20200314T200000
DESCRIPTION:https://www.beta.libre.re/t/la-saga-du-libre-projection-debat-a
 -lentre-deux/307\n\nUne soirée SAGA du Libre est organisée à l’Entre-
 Deux en partenariat avec l’association SAGA.  Elle se déroulera chez Ro
 land Germser (@Roland) de SAGA. \n\nPour venir au Dojo Téât il faut veni
 r à l’Entre-Deux\, prendre la r&hellip\;
SEQUENCE:2
SUMMARY:La SAGA du Libre : Projection/Débat à l'Entre-Deux
URL:https://www.beta.libre.re/t/la-saga-du-libre-projection-debat-a-lentre-
 deux/307
ATTENDEE:mailto:ncarrie@libre.re
ATTENDEE:mailto:magninpierre@wanadoo.fr
ATTENDEE:mailto:l.mahadea@gmail.com
ATTENDEE:mailto:pvincent@artcode.re
END:VEVENT
BEGIN:VEVENT
DTSTAMP:20260425T135107Z
UID:343@beta.libre.re
DTSTART;TZID=Asia/Baku:20200320T140000
DTEND;TZID=Asia/Baku:20200320T160000
DESCRIPTION:https://www.beta.libre.re/t/annule-questions-reponses-special-l
 ogiciels-libres/343\n\nVendredi 20 mars : Questions-Réponses : spécial l
 ogiciels libres (14h - 16h)
SEQUENCE:1
SUMMARY:[ANNULÉ] Questions-Réponses : spécial logiciels libres
URL:https://www.beta.libre.re/t/annule-questions-reponses-special-logiciels
 -libres/343
ATTENDEE:mailto:ncarrie@libre.re
ATTENDEE:mailto:pereaux.steve@mailoo.org
END:VEVENT
BEGIN:VEVENT
DTSTAMP:20260425T135107Z
UID:344@beta.libre.re
DTSTART;TZID=Asia/Baku:20200321T150000
DTEND;TZID=Asia/Baku:20200321T173000
DESCRIPTION:https://www.beta.libre.re/t/annule-projection-debat-la-bataille
 -du-libre/344\n\nsamedi 21 mars : La Bataille du Libre + débat (à partir
  de 15h)
SEQUENCE:1
SUMMARY:[ANNULÉ] Projection/Débat : La Bataille du Libre
URL:https://www.beta.libre.re/t/annule-projection-debat-la-bataille-du-libr
 e/344
ATTENDEE:mailto:richardhoarau@gmail.com
ATTENDEE:mailto:pereaux.steve@mailoo.org
ATTENDEE:mailto:pvincent@artcode.re
END:VEVENT
BEGIN:VEVENT
DTSTAMP:20260425T135107Z
UID:345@beta.libre.re
DTSTART;TZID=Asia/Baku:20200328T130000
DTEND;TZID=Asia/Baku:20200328T180000
DESCRIPTION:https://www.beta.libre.re/t/annule-instalali-tampon/345\n\nsame
 di 28 mars : Instalali (13h -18h)
SEQUENCE:1
SUMMARY:[ANNULÉ] Instalali Tampon
URL:https://www.beta.libre.re/t/annule-instalali-tampon/345
ATTENDEE:mailto:pereaux.steve@mailoo.org
ATTENDEE:mailto:l.mahadea@gmail.com
ATTENDEE:mailto:pvincent@artcode.re
END:VEVENT
BEGIN:VEVENT
DTSTAMP:20260425T135107Z
UID:362@beta.libre.re
DTSTART;TZID=Asia/Baku:20200425T160000
DTEND;TZID=Asia/Baku:20200425T190000
DESCRIPTION:https://www.beta.libre.re/t/un-confin-atelier-a-defaut-de-contr
 ibatelier/362\n\nBonsoir à toutes et tous\, \nJe suppose que vous connais
 sez les Contribatelier qui sont des événements libristes où on propose 
 aux participants de devenir acteurs et non plus seulement spectateurs en p
 renant directement pa&hellip\;
SEQUENCE:1
SUMMARY:Un "Confin’atelier" à défaut de Contribatelier
URL:https://www.beta.libre.re/t/un-confin-atelier-a-defaut-de-contribatelie
 r/362
END:VEVENT
BEGIN:VEVENT
DTSTAMP:20260425T135107Z
UID:400@beta.libre.re
DTSTART;TZID=Asia/Baku:20200718T120000
DESCRIPTION:https://www.beta.libre.re/t/ekopratik-assemblee-generale/400\n\
 nJe relaye une information en provenance de l’association Ekopratik avec
  laquelle nous partageons beaucoup d’affinités\, réparation\, bricolag
 e et bidouillage en tout genre. \n\nChers adhérents\, \nLe bureau et l’
 équipe profess&hellip\;
SEQUENCE:1
SUMMARY:Ekopratik\, Assemblée Générale
URL:https://www.beta.libre.re/t/ekopratik-assemblee-generale/400
END:VEVENT
BEGIN:VEVENT
DTSTAMP:20260425T135107Z
UID:445@beta.libre.re
DTSTART;TZID=Asia/Baku:20201003T100000
DTEND;TZID=Asia/Baku:20201003T150000
DESCRIPTION:https://www.beta.libre.re/t/instalali-journee-ouverte-du-03-oct
 obre/445\n\nJe tente la création d’un événement dans notre calendrier
  :wink:
SEQUENCE:1
SUMMARY:Instalali : journée ouverte du 03 octobre
URL:https://www.beta.libre.re/t/instalali-journee-ouverte-du-03-octobre/445
END:VEVENT
BEGIN:VEVENT
DTSTAMP:20260425T135107Z
UID:452@beta.libre.re
DTSTART;TZID=Asia/Baku:20201030T100000
DTEND;TZID=Asia/Baku:20201030T170000
DESCRIPTION:https://www.beta.libre.re/t/atelier-de-decouverte-des-licences-
 libres/452\n\nBonjour tout le monde\, \nvoici l’événement concernant l
 ’atelier de découverte des licences libre dont on parle dans ce sujet. 
 \n  \nPour résumer\, il s’agit d’un événement permettant aux utilis
 ateurs de la Monnaie Libre de p&hellip\;
SEQUENCE:2
SUMMARY:Atelier de découverte des licences libres
URL:https://www.beta.libre.re/t/atelier-de-decouverte-des-licences-libres/4
 52
END:VEVENT
BEGIN:VEVENT
DTSTAMP:20260425T135107Z
UID:449@beta.libre.re
DTSTART;TZID=Asia/Baku:20201128T183000
DESCRIPTION:https://www.beta.libre.re/t/annule-projection-debat-la-bataille
 -du-libre-au-festival-du-film-citoyen/449\n\nProjection/Débat La bataille
  du Libre au festival du film citoyen \nà la Raffinerie\, St Paul. \n\n:e
 ye: attention\, la projection du film est annulée dans le cadre du film c
 itoyen
SEQUENCE:3
SUMMARY:ANNULÉ Projection/Débat La bataille du Libre au festival du film 
 citoyen
URL:https://www.beta.libre.re/t/annule-projection-debat-la-bataille-du-libr
 e-au-festival-du-film-citoyen/449
END:VEVENT
BEGIN:VEVENT
DTSTAMP:20260425T135107Z
UID:503@beta.libre.re
DTSTART;TZID=Asia/Baku:20210109T090000
DTEND;TZID=Asia/Baku:20210109T120000
DESCRIPTION:https://www.beta.libre.re/t/assemblee-generale-2021/503\n\nAsse
 mblée Générale 2021\n\nde 9h à midi =&gt\; AG\nde 12h à 13h =&gt\; re
 pas partage\nde 13h à 17h =&gt\; réparation + installation ordi pour Eko
 pratik\n\nVenez nombreux. \nAdhérents ou non adhérents. \n\nAu menu de l
 ’Assemblée Générale \n\nbi&hellip\;
SEQUENCE:1
SUMMARY:Assemblée Générale 2021
URL:https://www.beta.libre.re/t/assemblee-generale-2021/503
ATTENDEE:mailto:zipang@orange.fr
ATTENDEE:mailto:bjavotte@artcode.re
ATTENDEE:mailto:marcandre.lureau@gmail.com
ATTENDEE:mailto:doizy.anna@gmail.com
ATTENDEE:mailto:sebsweb@gmail.com
ATTENDEE:mailto:register@talaron.net
ATTENDEE:mailto:jnoel@mithril.re
ATTENDEE:mailto:pvincent@artcode.re
END:VEVENT
BEGIN:VEVENT
DTSTAMP:20260425T135107Z
UID:545@beta.libre.re
DTSTART;VALUE=DATE:20210206
DTEND;VALUE=DATE:20210208
DESCRIPTION:https://www.beta.libre.re/t/fosdem-2021-6-7-fevrier/545\n\nPour
  ceux qui ne le savent pas\, le FOSDEM c’est la conference incontournabl
 e des libristes en tout genre\, … et des amateurs de bières! C’est ju
 ste un moment incroyable de rencontre avec tout plein de communautés\, en
  savo&hellip\;
SEQUENCE:1
SUMMARY:FOSDEM 2021 (6 & 7 Février)
URL:https://www.beta.libre.re/t/fosdem-2021-6-7-fevrier/545
END:VEVENT
BEGIN:VEVENT
DTSTAMP:20260425T135107Z
UID:605@beta.libre.re
DTSTART;TZID=Asia/Baku:20210211T140000
DESCRIPTION:https://www.beta.libre.re/t/initiation-a-la-programmation-creat
 ive/605\n\nCe mercredi 10 février : initiation au code créatif sur p5.js
 \, un outil pour exprimer des idées créatives ou artistiques par la prog
 rammation. Nous apprendrons les bases de ce langage de programmation acces
 sible à tous\, &hellip\;
SEQUENCE:1
SUMMARY:Initiation à la programmation créative
URL:https://www.beta.libre.re/t/initiation-a-la-programmation-creative/605
END:VEVENT
BEGIN:VEVENT
DTSTAMP:20260425T135107Z
UID:631@beta.libre.re
DTSTART;TZID=Asia/Baku:20210321T090000
DTEND;TZID=Asia/Baku:20210321T170000
DESCRIPTION:https://www.beta.libre.re/t/gmarche-monnaie-libre-troc-action-c
 oncert-a-l-entre-deux/631\n\nLe Ğmarché et le Troc’Action à L’Entre
 -Tous \nLe Troc’Action est un échanges de semences\, plantes\, récolte
 s du jardins : fruits et légumes et produits transformés. Le Gmarché es
 t un marché en monnaie libre et d’échanges a&hellip\;
SEQUENCE:1
SUMMARY:Gmarché Monnaie Libre / Troc’Action + concert à L’Entre-Deux
URL:https://www.beta.libre.re/t/gmarche-monnaie-libre-troc-action-concert-a
 -l-entre-deux/631
END:VEVENT
BEGIN:VEVENT
DTSTAMP:20260425T135107Z
UID:632@beta.libre.re
DTSTART;TZID=Asia/Baku:20210326T150000
DESCRIPTION:https://www.beta.libre.re/t/reunion-sur-le-passeport-competence
 s-et-open-badges/632\n\nDans le cadre du tiers lieu de La Rafifnerie\, le 
 but du passeport de compétences sera de favoriser l’épanouissement ind
 ividuel et à mieux visualiser sa place dans une communauté \nA cette ré
 union nous parlerons d’un systè&hellip\;
SEQUENCE:1
SUMMARY:Réunion sur le passeport compétences et Open Badges
URL:https://www.beta.libre.re/t/reunion-sur-le-passeport-competences-et-ope
 n-badges/632
END:VEVENT
BEGIN:VEVENT
DTSTAMP:20260425T135107Z
UID:646@beta.libre.re
DTSTART;VALUE=DATE:20210328
DESCRIPTION:https://www.beta.libre.re/t/marche-pour-le-climat/646\n\nCoucou
 \, l’info n’a pas necessairement circule\, alors je la relaie ici. Ca 
 nous concerne evidemment. En plus\, la convention citoyenne a des allures 
 libristes sous certains egards (ouverture des debats\, plateforme de parti
 &hellip\;
SEQUENCE:1
SUMMARY:Marche pour le climat
URL:https://www.beta.libre.re/t/marche-pour-le-climat/646
END:VEVENT
BEGIN:VEVENT
DTSTAMP:20260425T135107Z
UID:597@beta.libre.re
DTSTART;TZID=Asia/Baku:20210423T150000
DTEND;TZID=Asia/Baku:20210424T170000
DESCRIPTION:https://www.beta.libre.re/t/annule-projection-debat-la-bataille
 -du-libre-a-la-raffinerie-episode-1/597\n\nSuite du sujet Projection La Ra
 ffinerie\, 2 séances : \nLe vendredi\naprès-midi\, divers ateliers autou
 r du logiciel libre\n\n\n16h réparali\n19h\, projection d’un court metr
 age sur le libre (fiction ou documentaire)\n19h20 jusqu’&hellip\;
SEQUENCE:2
SUMMARY:ANNULÉ ~Projection/débat 'La bataille du Libre' à la Raffinerie\
 , épisode 1~
URL:https://www.beta.libre.re/t/annule-projection-debat-la-bataille-du-libr
 e-a-la-raffinerie-episode-1/597
ATTENDEE:mailto:zipang@orange.fr
ATTENDEE:mailto:marcandre.lureau@gmail.com
ATTENDEE:mailto:doizy.anna@gmail.com
ATTENDEE:mailto:pereaux.steve@mailoo.org
ATTENDEE:mailto:l.mahadea@gmail.com
ATTENDEE:mailto:pvincent@artcode.re
END:VEVENT
BEGIN:VEVENT
DTSTAMP:20260425T135107Z
UID:618@beta.libre.re
DTSTART;TZID=Asia/Baku:20210424T133000
DTEND;TZID=Asia/Baku:20210424T173000
DESCRIPTION:https://www.beta.libre.re/t/instalali-la-raffinerie/618\n\nInst
 alali La Raffinerie\nSuite à la projection/débat de la veille\, nous pro
 posons aux membres de la Raffinerie de leur installer un système d’expl
 oitation libre de leur choix. \nVenez avec votre ordinateur et pensez à s
 auv&hellip\;
SEQUENCE:1
SUMMARY:Instalali La Raffinerie
URL:https://www.beta.libre.re/t/instalali-la-raffinerie/618
ATTENDEE:mailto:doizy.anna@gmail.com
ATTENDEE:mailto:l.mahadea@gmail.com
ATTENDEE:mailto:pvincent@artcode.re
END:VEVENT
BEGIN:VEVENT
DTSTAMP:20260425T135107Z
UID:714@beta.libre.re
DTSTART;TZID=Asia/Baku:20211009T090000
DTEND;TZID=Asia/Baku:20211009T120000
DESCRIPTION:https://www.beta.libre.re/t/formation-animer-cocreer-la-monnaie
 -libre/714\n\nVous êtes monnaie libriste\, intéressé de vous former pou
 r devenir facilitateur\, accompagnateur dans l’essaimage de la June et a
 insi soutenir le développement et la pérennité de votre réseau\, la pr
 ochaine session aura lie&hellip\;
SEQUENCE:1
SUMMARY:Formation "Animer Cocréer la monnaie libre
URL:https://www.beta.libre.re/t/formation-animer-cocreer-la-monnaie-libre/7
 14
END:VEVENT
BEGIN:VEVENT
DTSTAMP:20260425T135107Z
UID:722@beta.libre.re
DTSTART;TZID=Asia/Baku:20211129T083000
DTEND;TZID=Asia/Baku:20211129T170000
DESCRIPTION:https://www.beta.libre.re/t/formation-le-projet-r-e-v-e-s-un-co
 ncept-innovant/722\n\nVous voulez initier le changement dans votre vie mai
 s vous ne savez pas comment vous y prendre? \nLe projet R.E.V.E.S. vous in
 téresse et vous aimeriez comprendre d’avantage son processus pour l’u
 tiliser dans votre proj&hellip\;
SEQUENCE:2
SUMMARY:Formation "Le Projet R.E.V.E.S.\, un concept innovant"
URL:https://www.beta.libre.re/t/formation-le-projet-r-e-v-e-s-un-concept-in
 novant/722
END:VEVENT
BEGIN:VEVENT
DTSTAMP:20260425T135107Z
UID:724@beta.libre.re
DTSTART;TZID=Asia/Baku:20211220T090000
DTEND;TZID=Asia/Baku:20211220T170000
DESCRIPTION:https://www.beta.libre.re/t/formation-projet-r-e-v-e-s-un-conce
 pt-innovant/724\n\nLes objectifs de cette rencontre : \n\nRassembler les a
 cteurs des alternatives afin de créer un réseau d’entraide.\nProposer 
 des outils de connaissance de soi (valeurs\, besoins\, mode de communicati
 on\,…) afin de trouver s&hellip\;
SEQUENCE:1
SUMMARY:Formation "Projet R.E.V.E.S.\, un concept innovant"
URL:https://www.beta.libre.re/t/formation-projet-r-e-v-e-s-un-concept-innov
 ant/724
END:VEVENT
BEGIN:VEVENT
DTSTAMP:20260425T135107Z
UID:788@beta.libre.re
DTSTART;TZID=Asia/Baku:20221208T170000
DTEND;TZID=Asia/Baku:20221208T190000
DESCRIPTION:https://www.beta.libre.re/t/un-happy-apero-le-08-12-22-au-care-
 de-sainte-clotilde/788\n\nSave the date !!! \n08/12/22 \nde 17h à 19h \n
 à Le CARé de Sainte Clotilde. \n  \nPlaces limitées. Pensez à réserve
 r par texto au 0692 92 45 82 (Michel) ou par mail : Michel@i2C.agency \nL
 ’@πRO c’est\, avec l’excuse du numériqu&hellip\;
SEQUENCE:1
SUMMARY:Un Happy Apéro le 08/12/22 au CARé de Sainte Clotilde
URL:https://www.beta.libre.re/t/un-happy-apero-le-08-12-22-au-care-de-saint
 e-clotilde/788
END:VEVENT
BEGIN:VEVENT
DTSTAMP:20260425T135107Z
UID:824@beta.libre.re
DTSTART;TZID=Asia/Baku:20230505T110000
DTEND;TZID=Asia/Baku:20230507T110000
DESCRIPTION:https://www.beta.libre.re/t/la-reunion-des-communs/824\n\nLe ve
 ndredi et samedi 5 et 6 mai 2023 de 10h à 18h et le dimanche 7 mai de 10h
  à 16h.\, un événement de grande ampleur se prépare à la médiathèqu
 e de Saint-Joseph\, il se nomme « La Réunion des communs ». \n  \nreuni
 on-des-c&hellip\;
SEQUENCE:1
SUMMARY:La Réunion des Communs
URL:https://www.beta.libre.re/t/la-reunion-des-communs/824
ATTENDEE:mailto:pereaux.steve@mailoo.org
ATTENDEE:mailto:l.mahadea@gmail.com
ATTENDEE:mailto:nicolaslat@orange.fr
ATTENDEE:mailto:jnoel@mithril.re
ATTENDEE:mailto:pvincent@artcode.re
END:VEVENT
BEGIN:VEVENT
DTSTAMP:20260425T135107Z
UID:930@beta.libre.re
DTSTART;TZID=Asia/Baku:20231007T160000
DESCRIPTION:https://www.beta.libre.re/t/jeudi-5-octobre-14h-quel-numerique-
 ethique-et-responsable-pour-les-tiers-lieux/930\n\nA vos agendas ! \nNotez
  bien le jeudi 5 octobre de 16h à 17h30 (heure Réunion)\, où nous feron
 s une table ronde en-ligne : quel numérique éthique et responsable pour 
 les Tiers-lieux ? \nDes regards croisés de nos intervenan&hellip\;
SEQUENCE:1
SUMMARY:Jeudi 5 octobre 14h\, quel numérique éthique et responsable pour 
 les Tiers-lieux
URL:https://www.beta.libre.re/t/jeudi-5-octobre-14h-quel-numerique-ethique-
 et-responsable-pour-les-tiers-lieux/930
END:VEVENT
END:VCALENDAR
